BEGIN:VCALENDAR
VERSION:2.0
PRODID:-//ChamberMaster//Event Calendar 2.0//EN
METHOD:PUBLISH
X-PUBLISHED-TTL:P3D
REFRESH-INTERVAL:P3D
CALSCALE:GREGORIAN
BEGIN:VEVENT
DTSTART:20210610T233000Z
DTEND:20210611T013000Z
X-MICROSOFT-CDO-ALLDAYEVENT:FALSE
SUMMARY:Ladies Charcuterie Class
DESCRIPTION:Ladies Charcuterie Class
X-ALT-DESC;FMTTYPE=text/html:<span style="color:#800080\;"><span style="font-size:20px\;"><span style="font-family:tahoma\;"><strong>Ladies Charcuterie Class</strong></span></span></span>
LOCATION:CMPDD 1020 Centre Pointe Blvd. Pearl\, MS 39208
UID:e.1412.2928
SEQUENCE:3
DTSTAMP:20260421T183202Z
URL:http://business.rankinchamber.com/events/details/ladies-charcuterie-class-2928
END:VEVENT

END:VCALENDAR
