BEGIN:VCALENDAR
VERSION:2.0
PRODID:-//ChamberMaster//Event Calendar 2.0//EN
METHOD:PUBLISH
X-PUBLISHED-TTL:P3D
REFRESH-INTERVAL:P3D
CALSCALE:GREGORIAN
BEGIN:VEVENT
DTSTART:20121005T150000Z
DTEND:20121005T160000Z
X-MICROSOFT-CDO-ALLDAYEVENT:FALSE
SUMMARY:1st Fridays
DESCRIPTION:1st Fridays is a informative meeting for seniors\n\nSpeaker: Stephanie McEwen\n\nTopic: Fall Prevention
X-ALT-DESC;FMTTYPE=text/html:1st Fridays is a informative meeting for seniors<br />\nSpeaker: Stephanie McEwen<br />\nTopic: Fall Prevention<br />\n
LOCATION:Brandon Senior Center
UID:e.1412.190
SEQUENCE:3
DTSTAMP:20260422T073829Z
URL:https://business.rankinchamber.com/events/details/1st-fridays-10-05-2012-190
END:VEVENT

END:VCALENDAR
