BEGIN:VCALENDAR
VERSION:2.0
PRODID:-//ChamberMaster//Event Calendar 2.0//EN
METHOD:PUBLISH
X-PUBLISHED-TTL:P3D
REFRESH-INTERVAL:P3D
CALSCALE:GREGORIAN
BEGIN:VEVENT
DTSTART:20150109T160000Z
DTEND:20150109T170000Z
X-MICROSOFT-CDO-ALLDAYEVENT:FALSE
SUMMARY:1st Fridays for Seniors
DESCRIPTION:1st Fridays for Seniors (Pearl Senior Center\, Pearl)
X-ALT-DESC;FMTTYPE=text/html:1st Fridays for Seniors (Pearl Senior Center\, Pearl)
LOCATION:
UID:e.1412.785
SEQUENCE:3
DTSTAMP:20260421T234714Z
URL:https://business.rankinchamber.com/events/details/1st-fridays-for-seniors-01-09-2015-785
END:VEVENT

END:VCALENDAR
