BEGIN:VCALENDAR
VERSION:2.0
PRODID:-//ChamberMaster//Event Calendar 2.0//EN
METHOD:PUBLISH
X-PUBLISHED-TTL:P3D
REFRESH-INTERVAL:P3D
CALSCALE:GREGORIAN
BEGIN:VEVENT
DTSTART;VALUE=DATE:20140110
DTEND;VALUE=DATE:20140111
TRANSP:TRANSPARENT
X-MICROSOFT-CDO-ALLDAYEVENT:TRUE
SUMMARY:1st Fridays for Seniors
DESCRIPTION:1st Fridays for Seniors (Richland Community Center\, 401 E. Harper St\, Richland)
X-ALT-DESC;FMTTYPE=text/html:1st Fridays for Seniors (Richland Community Center\, 401 E. Harper St\, Richland)
LOCATION:
UID:e.1412.565
SEQUENCE:3
DTSTAMP:20260422T184203Z
URL:https://business.rankinchamber.com/events/details/1st-fridays-for-seniors-01-10-2014-565
END:VEVENT

END:VCALENDAR
