BEGIN:VCALENDAR
VERSION:2.0
PRODID:-//ChamberMaster//Event Calendar 2.0//EN
METHOD:PUBLISH
X-PUBLISHED-TTL:P3D
REFRESH-INTERVAL:P3D
CALSCALE:GREGORIAN
BEGIN:VEVENT
DTSTART:20150410T150000Z
DTEND:20150410T160000Z
X-MICROSOFT-CDO-ALLDAYEVENT:FALSE
SUMMARY:1st Fridays for Seniors
DESCRIPTION:1st Fridays for Seniors (Pearl Senior Center\, 110 Valentour Rd\, Pearl)
X-ALT-DESC;FMTTYPE=text/html:1st Fridays for Seniors (Pearl Senior Center\, 110 Valentour Rd\, Pearl)
LOCATION:
UID:e.1412.1907
SEQUENCE:3
DTSTAMP:20260421T185637Z
URL:https://business.rankinchamber.com/events/details/1st-fridays-for-seniors-04-10-2015-1907
END:VEVENT

END:VCALENDAR
