BEGIN:VCALENDAR
VERSION:2.0
PRODID:-//ChamberMaster//Event Calendar 2.0//EN
METHOD:PUBLISH
X-PUBLISHED-TTL:P3D
REFRESH-INTERVAL:P3D
CALSCALE:GREGORIAN
BEGIN:VEVENT
DTSTART:20140606T150000Z
DTEND:20140606T160000Z
X-MICROSOFT-CDO-ALLDAYEVENT:FALSE
SUMMARY:1st Fridays for Seniors
DESCRIPTION:1st Fridays for Seniors (Pearl Senior Center\, 110 Valentour Rd\, Pearl)
X-ALT-DESC;FMTTYPE=text/html:<span style="font-family:verdana\,sans-serif\;"><span style="font-size:10.0pt\;">1st Fridays for Seniors (Pearl Senior Center\, 110 Valentour Rd\, Pearl)</span></span>
LOCATION:
UID:e.1412.652
SEQUENCE:3
DTSTAMP:20260422T105321Z
URL:https://business.rankinchamber.com/events/details/1st-fridays-for-seniors-06-06-2014-652
END:VEVENT

END:VCALENDAR
