BEGIN:VCALENDAR
VERSION:2.0
PRODID:-//ChamberMaster//Event Calendar 2.0//EN
METHOD:PUBLISH
X-PUBLISHED-TTL:P3D
REFRESH-INTERVAL:P3D
CALSCALE:GREGORIAN
BEGIN:VEVENT
DTSTART:20130712T150000Z
DTEND:20130712T160000Z
X-MICROSOFT-CDO-ALLDAYEVENT:FALSE
SUMMARY:1st Fridays for Seniors
DESCRIPTION:1st Fridays for Seniors (Pelahatchie Town Center\, 612 Brooks St\, Pelahatchie)
X-ALT-DESC;FMTTYPE=text/html:1st Fridays for Seniors (Pelahatchie Town Center\, 612 Brooks St\, Pelahatchie)
LOCATION:
UID:e.1412.425
SEQUENCE:3
DTSTAMP:20260423T044750Z
URL:https://business.rankinchamber.com/events/details/1st-fridays-for-seniors-07-12-2013-425
END:VEVENT

END:VCALENDAR
