BEGIN:VCALENDAR
VERSION:2.0
PRODID:-//ChamberMaster//Event Calendar 2.0//EN
METHOD:PUBLISH
X-PUBLISHED-TTL:P3D
REFRESH-INTERVAL:P3D
CALSCALE:GREGORIAN
BEGIN:VEVENT
DTSTART:20120803T150000Z
DTEND:20120803T160000Z
X-MICROSOFT-CDO-ALLDAYEVENT:FALSE
SUMMARY:1st Fridays for Seniors
DESCRIPTION:John Overby will be speaking on some Energy Saving Tips
X-ALT-DESC;FMTTYPE=text/html:John Overby will be speaking on some Energy Saving Tips
LOCATION:Puckett Town Hall (6449 Hwy 18\, Puckett)
UID:e.1412.165
SEQUENCE:3
DTSTAMP:20260422T043040Z
URL:https://business.rankinchamber.com/events/details/1st-fridays-for-seniors-08-03-2012-165
END:VEVENT

END:VCALENDAR
