BEGIN:VCALENDAR
VERSION:2.0
PRODID:-//ChamberMaster//Event Calendar 2.0//EN
METHOD:PUBLISH
X-PUBLISHED-TTL:P3D
REFRESH-INTERVAL:P3D
CALSCALE:GREGORIAN
BEGIN:VEVENT
DTSTART:20130906T150000Z
DTEND:20130906T160000Z
X-MICROSOFT-CDO-ALLDAYEVENT:FALSE
SUMMARY:1st Fridays for Seniors
DESCRIPTION:1st Fridays for Seniors (Brandon Senior Center\, 1000 Municipal Drive\, Brandon)
X-ALT-DESC;FMTTYPE=text/html:1st Fridays for Seniors&nbsp\;(Brandon Senior Center\, 1000 Municipal Drive\, Brandon)
LOCATION:
UID:e.1412.467
SEQUENCE:3
DTSTAMP:20260423T014004Z
URL:https://business.rankinchamber.com/events/details/1st-fridays-for-seniors-09-06-2013-467
END:VEVENT

END:VCALENDAR
