BEGIN:VCALENDAR
VERSION:2.0
PRODID:-//ChamberMaster//Event Calendar 2.0//EN
METHOD:PUBLISH
X-PUBLISHED-TTL:P3D
REFRESH-INTERVAL:P3D
CALSCALE:GREGORIAN
BEGIN:VEVENT
DTSTART:20131101T150000Z
DTEND:20131101T160000Z
X-MICROSOFT-CDO-ALLDAYEVENT:FALSE
SUMMARY:1st Fridays for Seniors
DESCRIPTION:1st Fridays for Seniors (Copiah Bank\, 150 Earl Clark\, Florence)
X-ALT-DESC;FMTTYPE=text/html:1st Fridays for Seniors (Copiah Bank\, 150 Earl Clark\, Florence)
LOCATION:
UID:e.1412.511
SEQUENCE:3
DTSTAMP:20260422T220357Z
URL:https://business.rankinchamber.com/events/details/1st-fridays-for-seniors-11-01-2013-511
END:VEVENT

END:VCALENDAR
