BEGIN:VCALENDAR
VERSION:2.0
PRODID:-//ChamberMaster//Event Calendar 2.0//EN
METHOD:PUBLISH
X-PUBLISHED-TTL:P3D
REFRESH-INTERVAL:P3D
CALSCALE:GREGORIAN
BEGIN:VEVENT
DTSTART:20141107T160000Z
DTEND:20141107T170000Z
X-MICROSOFT-CDO-ALLDAYEVENT:FALSE
SUMMARY:1st Fridays for Seniors
DESCRIPTION:1st Fridays for Seniors (Brandon Senior Center\, Brandon)
X-ALT-DESC;FMTTYPE=text/html:1st Fridays for Seniors (Brandon Senior Center\, Brandon)
LOCATION:
UID:e.1412.744
SEQUENCE:3
DTSTAMP:20260422T025648Z
URL:https://business.rankinchamber.com/events/details/1st-fridays-for-seniors-11-07-2014-744
END:VEVENT

END:VCALENDAR
