BEGIN:VCALENDAR
VERSION:2.0
PRODID:-//ChamberMaster//Event Calendar 2.0//EN
METHOD:PUBLISH
X-PUBLISHED-TTL:P3D
REFRESH-INTERVAL:P3D
CALSCALE:GREGORIAN
BEGIN:VEVENT
DTSTART:20131206T160000Z
DTEND:20131206T170000Z
X-MICROSOFT-CDO-ALLDAYEVENT:FALSE
SUMMARY:1st Fridays for Seniors
DESCRIPTION:1st Fridays for Seniors (Flowood Library\, 103 Winners Circle Dr\, Flowood)
X-ALT-DESC;FMTTYPE=text/html:1st Fridays for Seniors (Flowood Library\, 103 Winners Circle Dr\, Flowood)
LOCATION:
UID:e.1412.539
SEQUENCE:3
DTSTAMP:20260422T203038Z
URL:https://business.rankinchamber.com/events/details/1st-fridays-for-seniors-12-06-2013-539
END:VEVENT

END:VCALENDAR
