BEGIN:VCALENDAR
VERSION:2.0
PRODID:-//ChamberMaster//Event Calendar 2.0//EN
METHOD:PUBLISH
X-PUBLISHED-TTL:P3D
REFRESH-INTERVAL:P3D
CALSCALE:GREGORIAN
BEGIN:VEVENT
DTSTART;VALUE=DATE:20151130
DTEND;VALUE=DATE:20151203
TRANSP:TRANSPARENT
X-MICROSOFT-CDO-ALLDAYEVENT:TRUE
SUMMARY:50% off Sale
DESCRIPTION:Since i will be closed on small business Saturday I will have a 50% off sale Monday through Wednesday the 30th through the 2nd. We have clothing\, shoes\, purses\, jewelery and household items. Come see us down town Brandon behind the old Busick and Sons store. Monday and Tuesday 10:00 to 5:00 Wednesday 10:00 to 6:00.
X-ALT-DESC;FMTTYPE=text/html:Since i will be closed on small business Saturday I will have a 50% off sale Monday through Wednesday the 30th through the 2nd. We have clothing\, shoes\, purses\, jewelery and household items. Come see us down town Brandon behind the old Busick and Sons store. Monday and Tuesday 10:00 to 5:00 Wednesday 10:00 to 6:00.
LOCATION:203 Mary Ann Drive Brandon Ms. 39042 Suite A
UID:e.1412.2027
SEQUENCE:3
DTSTAMP:20260421T084712Z
URL:https://business.rankinchamber.com/events/details/50-off-sale-11-30-2015-2027
END:VEVENT

END:VCALENDAR
