BEGIN:VCALENDAR
VERSION:2.0
PRODID:-//ChamberMaster//Event Calendar 2.0//EN
METHOD:PUBLISH
X-PUBLISHED-TTL:P3D
REFRESH-INTERVAL:P3D
CALSCALE:GREGORIAN
BEGIN:VEVENT
DTSTART:20130808T200000Z
DTEND:20130808T210000Z
X-MICROSOFT-CDO-ALLDAYEVENT:FALSE
SUMMARY:Ag Committee
DESCRIPTION:Ag Committee (Chamber)
X-ALT-DESC;FMTTYPE=text/html:Ag Committee (Chamber)
LOCATION:
UID:e.1412.445
SEQUENCE:3
DTSTAMP:20260423T032038Z
URL:https://business.rankinchamber.com/events/details/ag-committee-08-08-2013-445
END:VEVENT

END:VCALENDAR
