BEGIN:VCALENDAR
VERSION:2.0
PRODID:-//ChamberMaster//Event Calendar 2.0//EN
METHOD:PUBLISH
X-PUBLISHED-TTL:P3D
REFRESH-INTERVAL:P3D
CALSCALE:GREGORIAN
BEGIN:VEVENT
DTSTART:20140827T190000Z
DTEND:20140827T200000Z
X-MICROSOFT-CDO-ALLDAYEVENT:FALSE
SUMMARY:Ag Committee
DESCRIPTION:Ag Committee (Rankin Chamber\, 101 Service Drive\, Brandon)
X-ALT-DESC;FMTTYPE=text/html:Ag Committee (Rankin Chamber\, 101 Service Drive\, Brandon)
LOCATION:
UID:e.1412.694
SEQUENCE:3
DTSTAMP:20260422T073751Z
URL:https://business.rankinchamber.com/events/details/ag-committee-08-27-2014-694
END:VEVENT

END:VCALENDAR
