BEGIN:VCALENDAR
VERSION:2.0
PRODID:-//ChamberMaster//Event Calendar 2.0//EN
METHOD:PUBLISH
X-PUBLISHED-TTL:P3D
REFRESH-INTERVAL:P3D
CALSCALE:GREGORIAN
BEGIN:VEVENT
DTSTART:20140109T173000Z
DTEND:20140109T190000Z
X-MICROSOFT-CDO-ALLDAYEVENT:FALSE
SUMMARY:AMB Committee
DESCRIPTION:Ambassadors Committee (Corner Bakery\, 108 Market St\, Flowood)
X-ALT-DESC;FMTTYPE=text/html:Ambassadors Committee (Corner Bakery\, 108 Market St\, Flowood)
LOCATION:
UID:e.1412.562
SEQUENCE:3
DTSTAMP:20260422T184011Z
URL:https://business.rankinchamber.com/events/details/amb-committee-01-09-2014-562
END:VEVENT

END:VCALENDAR
