BEGIN:VCALENDAR
VERSION:2.0
PRODID:-//ChamberMaster//Event Calendar 2.0//EN
METHOD:PUBLISH
X-PUBLISHED-TTL:P3D
REFRESH-INTERVAL:P3D
CALSCALE:GREGORIAN
BEGIN:VEVENT
DTSTART:20140410T163000Z
DTEND:20140410T180000Z
X-MICROSOFT-CDO-ALLDAYEVENT:FALSE
SUMMARY:AMB Committee
DESCRIPTION:Ambassador Committee (Miller's Grill\, Hwy 471\, Brandon)
X-ALT-DESC;FMTTYPE=text/html:Ambassador Committee (Miller&#39\;s Grill\, Hwy 471\, Brandon)
LOCATION:
UID:e.1412.620
SEQUENCE:3
DTSTAMP:20260422T135200Z
URL:https://business.rankinchamber.com/events/details/amb-committee-04-10-2014-620
END:VEVENT

END:VCALENDAR
