BEGIN:VCALENDAR
VERSION:2.0
PRODID:-//ChamberMaster//Event Calendar 2.0//EN
METHOD:PUBLISH
X-PUBLISHED-TTL:P3D
REFRESH-INTERVAL:P3D
CALSCALE:GREGORIAN
BEGIN:VEVENT
DTSTART:20121023T130000Z
DTEND:20121023T140000Z
X-MICROSOFT-CDO-ALLDAYEVENT:FALSE
SUMMARY:AMB Committee Meeting
DESCRIPTION:
X-ALT-DESC;FMTTYPE=text/html:
LOCATION:Rankin County Chamber of Commerce 101 Service Drive Brandon\, MS 39042
UID:e.1412.246
SEQUENCE:3
DTSTAMP:20260422T073828Z
URL:https://business.rankinchamber.com/events/details/amb-committee-meeting-10-23-2012-246
END:VEVENT

END:VCALENDAR
