BEGIN:VCALENDAR
VERSION:2.0
PRODID:-//ChamberMaster//Event Calendar 2.0//EN
METHOD:PUBLISH
X-PUBLISHED-TTL:P3D
REFRESH-INTERVAL:P3D
CALSCALE:GREGORIAN
BEGIN:VEVENT
DTSTART:20120717T163000Z
DTEND:20120717T180000Z
X-MICROSOFT-CDO-ALLDAYEVENT:FALSE
SUMMARY:AMB Lunc Meeting
DESCRIPTION:AMB Lunch Meeting
X-ALT-DESC;FMTTYPE=text/html:AMB Lunch Meeting<br />\n
LOCATION:To Be Announced
UID:e.1412.154
SEQUENCE:3
DTSTAMP:20260422T024943Z
URL:https://business.rankinchamber.com/events/details/amb-lunc-meeting-07-17-2012-154
END:VEVENT

END:VCALENDAR
