BEGIN:VCALENDAR
VERSION:2.0
PRODID:-//ChamberMaster//Event Calendar 2.0//EN
METHOD:PUBLISH
X-PUBLISHED-TTL:P3D
REFRESH-INTERVAL:P3D
CALSCALE:GREGORIAN
BEGIN:VEVENT
DTSTART:20140508T162500Z
DTEND:20140508T180000Z
X-MICROSOFT-CDO-ALLDAYEVENT:FALSE
SUMMARY:Ambassador Committee
DESCRIPTION:Ambassadors Committee (Dickey's BBQ Pit - Richland)
X-ALT-DESC;FMTTYPE=text/html:Ambassadors Committee (Dickey&#39\;s BBQ Pit - Richland)
LOCATION:
UID:e.1412.639
SEQUENCE:3
DTSTAMP:20260422T123127Z
URL:https://business.rankinchamber.com/events/details/ambassador-committee-05-08-2014-639
END:VEVENT

END:VCALENDAR
