BEGIN:VCALENDAR
VERSION:2.0
PRODID:-//ChamberMaster//Event Calendar 2.0//EN
METHOD:PUBLISH
X-PUBLISHED-TTL:P3D
REFRESH-INTERVAL:P3D
CALSCALE:GREGORIAN
BEGIN:VEVENT
DTSTART:20140612T163000Z
DTEND:20140612T180000Z
X-MICROSOFT-CDO-ALLDAYEVENT:FALSE
SUMMARY:Ambassador Committee
DESCRIPTION:Ambassadors Committee (Mazzio's Castlewoods\, 144 Albertson Dr\, Brandon)
X-ALT-DESC;FMTTYPE=text/html:Ambassadors Committee (Mazzio&#39\;s Castlewoods\, 144 Albertson Dr\, Brandon)
LOCATION:
UID:e.1412.657
SEQUENCE:3
DTSTAMP:20260422T105153Z
URL:https://business.rankinchamber.com/events/details/ambassador-committee-06-12-2014-657
END:VEVENT

END:VCALENDAR
