BEGIN:VCALENDAR
VERSION:2.0
PRODID:-//ChamberMaster//Event Calendar 2.0//EN
METHOD:PUBLISH
X-PUBLISHED-TTL:P3D
REFRESH-INTERVAL:P3D
CALSCALE:GREGORIAN
BEGIN:VEVENT
DTSTART:20130509T163000Z
DTEND:20130509T180000Z
X-MICROSOFT-CDO-ALLDAYEVENT:FALSE
SUMMARY:Ambassador Meeting\, Miller's Grill & Pizzeria
DESCRIPTION:Ambassador Meeting\, Miller's Grill & Pizzeria ( 2146 Hwy 471 Brandon\, MS 39047 )
X-ALT-DESC;FMTTYPE=text/html:Ambassador Meeting\, Miller&#39\;s Grill &amp\; Pizzeria ( 2146 Hwy 471 Brandon\, MS 39047 )
LOCATION:
UID:e.1412.365
SEQUENCE:3
DTSTAMP:20260423T075402Z
URL:https://business.rankinchamber.com/events/details/ambassador-meeting-miller-s-grill-pizzeria-05-09-2013-365
END:VEVENT

END:VCALENDAR
