BEGIN:VCALENDAR
VERSION:2.0
PRODID:-//ChamberMaster//Event Calendar 2.0//EN
METHOD:PUBLISH
X-PUBLISHED-TTL:P3D
REFRESH-INTERVAL:P3D
CALSCALE:GREGORIAN
BEGIN:VEVENT
DTSTART:20150312T163000Z
DTEND:20150312T180000Z
X-MICROSOFT-CDO-ALLDAYEVENT:FALSE
SUMMARY:Ambassadors Committee
DESCRIPTION:Ambassadors Committee (Farm Bureau Grill at Trustmark Park)
X-ALT-DESC;FMTTYPE=text/html:Ambassadors Committee (Farm Bureau Grill at Trustmark Park)
LOCATION:
UID:e.1412.958
SEQUENCE:3
DTSTAMP:20260421T201945Z
URL:https://business.rankinchamber.com/events/details/ambassadors-committee-03-12-2015-958
END:VEVENT

END:VCALENDAR
