BEGIN:VCALENDAR
VERSION:2.0
PRODID:-//ChamberMaster//Event Calendar 2.0//EN
METHOD:PUBLISH
X-PUBLISHED-TTL:P3D
REFRESH-INTERVAL:P3D
CALSCALE:GREGORIAN
BEGIN:VEVENT
DTSTART:20150409T163000Z
DTEND:20150409T180000Z
X-MICROSOFT-CDO-ALLDAYEVENT:FALSE
SUMMARY:Ambassadors Committee
DESCRIPTION:Ambassadors Committee (location to be announced)
X-ALT-DESC;FMTTYPE=text/html:Ambassadors Committee (location to be announced)
LOCATION:
UID:e.1412.1904
SEQUENCE:3
DTSTAMP:20260421T185243Z
URL:https://business.rankinchamber.com/events/details/ambassadors-committee-04-09-2015-1904
END:VEVENT

END:VCALENDAR
