BEGIN:VCALENDAR
VERSION:2.0
PRODID:-//ChamberMaster//Event Calendar 2.0//EN
METHOD:PUBLISH
X-PUBLISHED-TTL:P3D
REFRESH-INTERVAL:P3D
CALSCALE:GREGORIAN
BEGIN:VEVENT
DTSTART:20141113T173000Z
DTEND:20141113T190000Z
X-MICROSOFT-CDO-ALLDAYEVENT:FALSE
SUMMARY:Ambassadors Committee
DESCRIPTION:Ambassador Committee (Miller's Grill\, Hwy 471\, Brandon)
X-ALT-DESC;FMTTYPE=text/html:Ambassador Committee (Miller&#39\;s Grill\, Hwy 471\, Brandon)
LOCATION:
UID:e.1412.749
SEQUENCE:3
DTSTAMP:20260422T025347Z
URL:https://business.rankinchamber.com/events/details/ambassadors-committee-11-13-2014-749
END:VEVENT

END:VCALENDAR
