BEGIN:VCALENDAR
VERSION:2.0
PRODID:-//ChamberMaster//Event Calendar 2.0//EN
METHOD:PUBLISH
X-PUBLISHED-TTL:P3D
REFRESH-INTERVAL:P3D
CALSCALE:GREGORIAN
BEGIN:VEVENT
DTSTART:20130711T163000Z
DTEND:20130711T180000Z
X-MICROSOFT-CDO-ALLDAYEVENT:FALSE
SUMMARY:Ambassadors Meeting
DESCRIPTION:Ambassadors Meeting (Marco's Pizza\, 1139 Old Fannin Rd\, Brandon)
X-ALT-DESC;FMTTYPE=text/html:Ambassadors Meeting (Marco&#39\;s Pizza\, 1139 Old Fannin Rd\, Brandon)&nbsp\;
LOCATION:
UID:e.1412.422
SEQUENCE:3
DTSTAMP:20260423T044438Z
URL:https://business.rankinchamber.com/events/details/ambassadors-meeting-07-11-2013-422
END:VEVENT

END:VCALENDAR
