BEGIN:VCALENDAR
VERSION:2.0
PRODID:-//ChamberMaster//Event Calendar 2.0//EN
METHOD:PUBLISH
X-PUBLISHED-TTL:P3D
REFRESH-INTERVAL:P3D
CALSCALE:GREGORIAN
BEGIN:VEVENT
DTSTART:20130808T163000Z
DTEND:20130808T180000Z
X-MICROSOFT-CDO-ALLDAYEVENT:FALSE
SUMMARY:Ambassadors Meeting
DESCRIPTION:Ambassador Committee (Brandon Library\, 1475 W. Government St\, Brandon)\n\nLunch catered by Dickey's Barbecue\, Flowood\n\n\n\n- $12 in advance and RSVP to Ashlee at acoley@rankinchamber.com
X-ALT-DESC;FMTTYPE=text/html:Ambassador Committee (Brandon Library\, 1475 W. Government St\, Brandon)<br />\nLunch catered by Dickey&#39\;s Barbecue\, Flowood<br />\n<br />\n- $12 in advance and RSVP to Ashlee at acoley@rankinchamber.com
LOCATION:
UID:e.1412.444
SEQUENCE:3
DTSTAMP:20260423T031618Z
URL:https://business.rankinchamber.com/events/details/ambassadors-meeting-08-08-2013-444
END:VEVENT

END:VCALENDAR
