BEGIN:VCALENDAR
VERSION:2.0
PRODID:-//ChamberMaster//Event Calendar 2.0//EN
METHOD:PUBLISH
X-PUBLISHED-TTL:P3D
REFRESH-INTERVAL:P3D
CALSCALE:GREGORIAN
BEGIN:VEVENT
DTSTART:20150416T190000Z
DTEND:20150416T210000Z
X-MICROSOFT-CDO-ALLDAYEVENT:FALSE
SUMMARY:Ambassadors Project
DESCRIPTION:Ambassadors Project (The Mustard Seed)
X-ALT-DESC;FMTTYPE=text/html:Ambassadors Project (The Mustard Seed)
LOCATION:
UID:e.1412.1913
SEQUENCE:3
DTSTAMP:20260421T184509Z
URL:https://business.rankinchamber.com/events/details/ambassadors-project-04-16-2015-1913
END:VEVENT

END:VCALENDAR
