BEGIN:VCALENDAR
VERSION:2.0
PRODID:-//ChamberMaster//Event Calendar 2.0//EN
METHOD:PUBLISH
X-PUBLISHED-TTL:P3D
REFRESH-INTERVAL:P3D
CALSCALE:GREGORIAN
BEGIN:VEVENT
DTSTART:20120926T000000Z
DTEND:20120926T020000Z
X-MICROSOFT-CDO-ALLDAYEVENT:FALSE
SUMMARY:Annual Banquet
DESCRIPTION:Guest Speaker: Patrick Henry
X-ALT-DESC;FMTTYPE=text/html:Guest Speaker: Patrick Henry
LOCATION:Clyde Muse Center at Hinds Community College Rankin Campus 3805 Hwy 80 East Pearl\, Mississippi
UID:e.1412.183
SEQUENCE:3
DTSTAMP:20260422T055912Z
URL:https://business.rankinchamber.com/events/details/annual-banquet-09-25-2012-183
END:VEVENT

END:VCALENDAR
