BEGIN:VCALENDAR
VERSION:2.0
PRODID:-//ChamberMaster//Event Calendar 2.0//EN
METHOD:PUBLISH
X-PUBLISHED-TTL:P3D
REFRESH-INTERVAL:P3D
CALSCALE:GREGORIAN
BEGIN:VEVENT
DTSTART:20150929T160000Z
DTEND:20150929T180000Z
X-MICROSOFT-CDO-ALLDAYEVENT:FALSE
SUMMARY:Annual Banquet Luncheon
DESCRIPTION:56th Annual Meeting Luncheon (Clyde Muse Center\, 515 Country Place Parkway\, Pearl)\n\n\n\nRSVP to acoley@rankinchamber.com.  General Seating $35 each\n\n\n\nTickets:\n\n$35 General Seating\n\n$600 Reserved Table (seating for 8)\n\n$1000 Corporate Sponsor (front round\, seating for 8)
X-ALT-DESC;FMTTYPE=text/html:56th&nbsp\;Annual&nbsp\;Meeting Luncheon (Clyde Muse Center\, 515 Country Place Parkway\, Pearl)<br />\n<br />\nRSVP to acoley@rankinchamber.com. &nbsp\;General Seating $35 each<br />\n<br />\n<strong>Tickets</strong>:<br />\n$35 General Seating<br />\n$600 Reserved Table (seating for 8)<br />\n$1000 Corporate Sponsor (front round\, seating for 8)
LOCATION:
UID:e.1412.1959
SEQUENCE:3
DTSTAMP:20260421T102238Z
URL:https://business.rankinchamber.com/events/details/annual-banquet-luncheon-09-29-2015-1959
END:VEVENT

END:VCALENDAR
