BEGIN:VCALENDAR
VERSION:2.0
PRODID:-//ChamberMaster//Event Calendar 2.0//EN
METHOD:PUBLISH
X-PUBLISHED-TTL:P3D
REFRESH-INTERVAL:P3D
CALSCALE:GREGORIAN
BEGIN:VEVENT
DTSTART:20130719T230000Z
DTEND:20130720T010000Z
X-MICROSOFT-CDO-ALLDAYEVENT:FALSE
SUMMARY:BAH: Chambers for Charity
DESCRIPTION:BAH: Chambers for Charity (Immediately after Sanderson Farms Golf Championship - approx 6:00 pm)\n\nAnnandale Golf Club\, Madison MS\n\n\n\nTicket Proceeds go to Blair E. Batson Hospital for Children
X-ALT-DESC;FMTTYPE=text/html:BAH: Chambers for Charity (Immediately after Sanderson Farms Golf Championship - approx 6:00 pm)<br />\nAnnandale Golf Club\, Madison MS<br />\n<br />\nTicket Proceeds go to Blair E. Batson Hospital for Children
LOCATION:
UID:e.1412.427
SEQUENCE:3
DTSTAMP:20260423T044543Z
URL:https://business.rankinchamber.com/events/details/bah-chambers-for-charity-07-19-2013-427
END:VEVENT

END:VCALENDAR
