BEGIN:VCALENDAR
VERSION:2.0
PRODID:-//ChamberMaster//Event Calendar 2.0//EN
METHOD:PUBLISH
X-PUBLISHED-TTL:P3D
REFRESH-INTERVAL:P3D
CALSCALE:GREGORIAN
BEGIN:VEVENT
DTSTART:20140821T220000Z
DTEND:20140822T003000Z
X-MICROSOFT-CDO-ALLDAYEVENT:FALSE
SUMMARY:BAH: Hilton Tailgate Party
DESCRIPTION:BAH: Hilton Tri-County Chamber Tailgate Party (Hilton-Jackson\, County Line Road)
X-ALT-DESC;FMTTYPE=text/html:BAH: Hilton Tri-County Chamber Tailgate Party (Hilton-Jackson\, County Line Road)
LOCATION:
UID:e.1412.687
SEQUENCE:3
DTSTAMP:20260422T073758Z
URL:https://business.rankinchamber.com/events/details/bah-hilton-tailgate-party-08-21-2014-687
END:VEVENT

END:VCALENDAR
