BEGIN:VCALENDAR
VERSION:2.0
PRODID:-//ChamberMaster//Event Calendar 2.0//EN
METHOD:PUBLISH
X-PUBLISHED-TTL:P3D
REFRESH-INTERVAL:P3D
CALSCALE:GREGORIAN
BEGIN:VEVENT
DTSTART:20131029T223000Z
DTEND:20131030T003000Z
X-MICROSOFT-CDO-ALLDAYEVENT:FALSE
SUMMARY:BAH: Holiday Inn Hocus Pocus Halloween Fest
DESCRIPTION:BAH: Holiday Inn Hocus Pocus Halloween Fest\n\n(Holiday Inn Trustmark Park)
X-ALT-DESC;FMTTYPE=text/html:BAH: Holiday Inn Hocus Pocus Halloween Fest<br />\n(Holiday Inn Trustmark Park)
LOCATION:
UID:e.1412.507
SEQUENCE:3
DTSTAMP:20260422T234011Z
URL:https://business.rankinchamber.com/events/details/bah-holiday-inn-hocus-pocus-halloween-fest-10-29-2013-507
END:VEVENT

END:VCALENDAR
