BEGIN:VCALENDAR
VERSION:2.0
PRODID:-//ChamberMaster//Event Calendar 2.0//EN
METHOD:PUBLISH
X-PUBLISHED-TTL:P3D
REFRESH-INTERVAL:P3D
CALSCALE:GREGORIAN
BEGIN:VEVENT
DTSTART:20121030T223000Z
DTEND:20121031T003000Z
X-MICROSOFT-CDO-ALLDAYEVENT:FALSE
SUMMARY:BAH: Holiday Inn Trustmark Park
DESCRIPTION:Business After Hours!
X-ALT-DESC;FMTTYPE=text/html:Business After Hours!&nbsp\;
LOCATION:Holiday Inn at Trustmark Park 110 Bass Pro Drive Pearl\, MS 39208
UID:e.1412.252
SEQUENCE:3
DTSTAMP:20260422T073921Z
URL:https://business.rankinchamber.com/events/details/bah-holiday-inn-trustmark-park-10-30-2012-252
END:VEVENT

END:VCALENDAR
