BEGIN:VCALENDAR
VERSION:2.0
PRODID:-//ChamberMaster//Event Calendar 2.0//EN
METHOD:PUBLISH
X-PUBLISHED-TTL:P3D
REFRESH-INTERVAL:P3D
CALSCALE:GREGORIAN
BEGIN:VEVENT
DTSTART:20141030T220000Z
DTEND:20141031T000000Z
X-MICROSOFT-CDO-ALLDAYEVENT:FALSE
SUMMARY:BAH: Holiday Inn Trustmark Park
DESCRIPTION:Halloween BAH: Holiday Inn Trustmark Park (110 Bass Pro Drive\, Pearl)\n\n$5 at the door (goes to Make-A-Wish Mississippi)
X-ALT-DESC;FMTTYPE=text/html:Halloween BAH: Holiday Inn Trustmark Park (110 Bass Pro Drive\, Pearl)<br />\n$5 at the door (goes to Make-A-Wish Mississippi)
LOCATION:
UID:e.1412.733
SEQUENCE:3
DTSTAMP:20260422T043051Z
URL:https://business.rankinchamber.com/events/details/bah-holiday-inn-trustmark-park-10-30-2014-733
END:VEVENT

END:VCALENDAR
