BEGIN:VCALENDAR
VERSION:2.0
PRODID:-//ChamberMaster//Event Calendar 2.0//EN
METHOD:PUBLISH
X-PUBLISHED-TTL:P3D
REFRESH-INTERVAL:P3D
CALSCALE:GREGORIAN
BEGIN:VEVENT
DTSTART:20130530T223000Z
DTEND:20130531T010000Z
X-MICROSOFT-CDO-ALLDAYEVENT:FALSE
SUMMARY:BAH: MS Braves
DESCRIPTION:BAH: MS Braves ( Tri- County Chamber Night )
X-ALT-DESC;FMTTYPE=text/html:BAH: MS Braves ( Tri- County Chamber Night )
LOCATION:
UID:e.1412.374
SEQUENCE:3
DTSTAMP:20260423T075028Z
URL:https://business.rankinchamber.com/events/details/bah-ms-braves-05-30-2013-374
END:VEVENT

END:VCALENDAR
