BEGIN:VCALENDAR
VERSION:2.0
PRODID:-//ChamberMaster//Event Calendar 2.0//EN
METHOD:PUBLISH
X-PUBLISHED-TTL:P3D
REFRESH-INTERVAL:P3D
CALSCALE:GREGORIAN
BEGIN:VEVENT
DTSTART:20150423T223000Z
DTEND:20150424T020000Z
X-MICROSOFT-CDO-ALLDAYEVENT:FALSE
SUMMARY:BAH: MS Braves at Trustmark Park
DESCRIPTION:MS Braves Business After Hours at Trustmark Park\n\nGates open at 5:30 pm - Game 7:00 pm
X-ALT-DESC;FMTTYPE=text/html:MS Braves Business After Hours at Trustmark Park<br />\nGates open at 5:30 pm - Game 7:00 pm
LOCATION:
UID:e.1412.1916
SEQUENCE:3
DTSTAMP:20260421T185609Z
URL:https://business.rankinchamber.com/events/details/bah-ms-braves-at-trustmark-park-04-23-2015-1916
END:VEVENT

END:VCALENDAR
