BEGIN:VCALENDAR
VERSION:2.0
PRODID:-//ChamberMaster//Event Calendar 2.0//EN
METHOD:PUBLISH
X-PUBLISHED-TTL:P3D
REFRESH-INTERVAL:P3D
CALSCALE:GREGORIAN
BEGIN:VEVENT
DTSTART:20140619T223000Z
DTEND:20140620T020000Z
X-MICROSOFT-CDO-ALLDAYEVENT:FALSE
SUMMARY:BAH: Tri-County Braves
DESCRIPTION:MS Braves Business After Hours\, a Multi-Chamber event
X-ALT-DESC;FMTTYPE=text/html:MS Braves Business After Hours\, a Multi-Chamber event<br />\n&nbsp\;
LOCATION:Trustmark Park\, Pearl
UID:e.1412.660
SEQUENCE:3
DTSTAMP:20260422T105151Z
URL:https://business.rankinchamber.com/events/details/bah-tri-county-braves-06-19-2014-660
END:VEVENT

END:VCALENDAR
