BEGIN:VCALENDAR
VERSION:2.0
PRODID:-//ChamberMaster//Event Calendar 2.0//EN
METHOD:PUBLISH
X-PUBLISHED-TTL:P3D
REFRESH-INTERVAL:P3D
CALSCALE:GREGORIAN
BEGIN:VEVENT
DTSTART:20150428T133000Z
DTEND:20150428T143000Z
X-MICROSOFT-CDO-ALLDAYEVENT:FALSE
SUMMARY:Baker Donelson Breakfast Briefing
DESCRIPTION:Baker Donelson Breakfast Briefing (Corner Bakery\, Flowood)\n\nEvent free to attend\, but must RSVP to Ashlee at acoley@rankinchamber.com
X-ALT-DESC;FMTTYPE=text/html:Baker Donelson Breakfast Briefing (Corner Bakery\, Flowood)<br />\nEvent free to attend\, but must RSVP to Ashlee at acoley@rankinchamber.com
LOCATION:
UID:e.1412.1917
SEQUENCE:3
DTSTAMP:20260421T185122Z
URL:https://business.rankinchamber.com/events/details/baker-donelson-breakfast-briefing-04-28-2015-1917
END:VEVENT

END:VCALENDAR
