BEGIN:VCALENDAR
VERSION:2.0
PRODID:-//ChamberMaster//Event Calendar 2.0//EN
METHOD:PUBLISH
X-PUBLISHED-TTL:P3D
REFRESH-INTERVAL:P3D
CALSCALE:GREGORIAN
BEGIN:VEVENT
DTSTART;VALUE=DATE:20140112
DTEND;VALUE=DATE:20140113
TRANSP:TRANSPARENT
X-MICROSOFT-CDO-ALLDAYEVENT:TRUE
SUMMARY:BILLBOARD: Lakeland Dr\, W of Airport Rd F/W
DESCRIPTION:
X-ALT-DESC;FMTTYPE=text/html:
LOCATION:
UID:e.1412.554
SEQUENCE:3
DTSTAMP:20260422T184254Z
URL:https://business.rankinchamber.com/events/details/billboard-lakeland-dr-w-of-airport-rd-f-w-01-12-2014-554
END:VEVENT

END:VCALENDAR
