BEGIN:VCALENDAR
VERSION:2.0
PRODID:-//ChamberMaster//Event Calendar 2.0//EN
METHOD:PUBLISH
X-PUBLISHED-TTL:P3D
REFRESH-INTERVAL:P3D
CALSCALE:GREGORIAN
BEGIN:VEVENT
DTSTART;VALUE=DATE:20140105
DTEND;VALUE=DATE:20140106
TRANSP:TRANSPARENT
X-MICROSOFT-CDO-ALLDAYEVENT:TRUE
SUMMARY:BILLBOARD: Old Fannin Rd F/S
DESCRIPTION:
X-ALT-DESC;FMTTYPE=text/html:
LOCATION:
UID:e.1412.553
SEQUENCE:3
DTSTAMP:20260422T184201Z
URL:https://business.rankinchamber.com/events/details/billboard-old-fannin-rd-f-s-01-05-2014-553
END:VEVENT

END:VCALENDAR
