BEGIN:VCALENDAR
VERSION:2.0
PRODID:-//ChamberMaster//Event Calendar 2.0//EN
METHOD:PUBLISH
X-PUBLISHED-TTL:P3D
REFRESH-INTERVAL:P3D
CALSCALE:GREGORIAN
BEGIN:VEVENT
DTSTART:20150213T000000Z
DTEND:20150213T020000Z
X-MICROSOFT-CDO-ALLDAYEVENT:FALSE
SUMMARY:Board Certified Teachers Banquet
DESCRIPTION:Board Certified Teachers Banquet (Pearl Community Center\, 2420 Old Brandon Rd\, Pearl)\n\n\n\nRegistration & Honoree pictures 5:30 pm\; Dinner and program begins at 6:00 pm
X-ALT-DESC;FMTTYPE=text/html:Board Certified Teachers Banquet (Pearl Community Center\, 2420 Old Brandon Rd\, Pearl)<br />\n<br />\nRegistration &amp\; Honoree pictures 5:30 pm\; Dinner and program begins at 6:00 pm
LOCATION:
UID:e.1412.1877
SEQUENCE:3
DTSTAMP:20260421T220443Z
URL:https://business.rankinchamber.com/events/details/board-certified-teachers-banquet-02-12-2015-1877
END:VEVENT

END:VCALENDAR
