BEGIN:VCALENDAR
VERSION:2.0
PRODID:-//ChamberMaster//Event Calendar 2.0//EN
METHOD:PUBLISH
X-PUBLISHED-TTL:P3D
REFRESH-INTERVAL:P3D
CALSCALE:GREGORIAN
BEGIN:VEVENT
DTSTART:20140611T131500Z
DTEND:20140611T141500Z
X-MICROSOFT-CDO-ALLDAYEVENT:FALSE
SUMMARY:Board Meeting
DESCRIPTION:Wed\, Jun 11\, 8:15 am\n\nBoard Meeting (Rankin Juvenile Detention Center\, Pelahatchie)\n\n(NOTE: for GPS use 108 Industrial Dr\, Pelahatchie)
X-ALT-DESC;FMTTYPE=text/html:<span style="font-family:verdana\,sans-serif\;">Wed\, Jun 11\, 8:15 am<br />\nBoard Meeting (Rankin Juvenile Detention Center\, Pelahatchie)<br />\n(NOTE: for GPS use 108 Industrial Dr\, Pelahatchie)</span><br />\n&nbsp\;
LOCATION:
UID:e.1412.656
SEQUENCE:3
DTSTAMP:20260422T105034Z
URL:https://business.rankinchamber.com/events/details/board-meeting-06-11-2014-656
END:VEVENT

END:VCALENDAR
