BEGIN:VCALENDAR
VERSION:2.0
PRODID:-//ChamberMaster//Event Calendar 2.0//EN
METHOD:PUBLISH
X-PUBLISHED-TTL:P3D
REFRESH-INTERVAL:P3D
CALSCALE:GREGORIAN
BEGIN:VEVENT
DTSTART:20130717T131500Z
DTEND:20130717T141500Z
X-MICROSOFT-CDO-ALLDAYEVENT:FALSE
SUMMARY:Board Meeting
DESCRIPTION:Board Meeting (Chamber)    -  rescheduled from Wed\, July 10th
X-ALT-DESC;FMTTYPE=text/html:Board Meeting (Chamber) &nbsp\; &nbsp\;- &nbsp\;rescheduled from Wed\, July 10th
LOCATION:
UID:e.1412.421
SEQUENCE:3
DTSTAMP:20260423T044258Z
URL:https://business.rankinchamber.com/events/details/board-meeting-07-17-2013-421
END:VEVENT

END:VCALENDAR
