BEGIN:VCALENDAR
VERSION:2.0
PRODID:-//ChamberMaster//Event Calendar 2.0//EN
METHOD:PUBLISH
X-PUBLISHED-TTL:P3D
REFRESH-INTERVAL:P3D
CALSCALE:GREGORIAN
BEGIN:VEVENT
DTSTART;VALUE=DATE:20130320
DTEND;VALUE=DATE:20130321
TRANSP:TRANSPARENT
X-MICROSOFT-CDO-ALLDAYEVENT:TRUE
SUMMARY:Board Meeting/FULL
DESCRIPTION:Board Meeting/FULL  *Note date change\n\n(Rankin Chamber office\, 101 Service Drive\, Brandon)
X-ALT-DESC;FMTTYPE=text/html:Board Meeting/FULL &nbsp\;<span style="color:#ff0000\;">*Note date change</span><br />\n(Rankin Chamber office\, 101 Service Drive\, Brandon)
LOCATION:
UID:e.1412.316
SEQUENCE:3
DTSTAMP:20260423T113911Z
URL:https://business.rankinchamber.com/events/details/board-meeting-full-03-20-2013-316
END:VEVENT

END:VCALENDAR
