BEGIN:VCALENDAR
VERSION:2.0
PRODID:-//ChamberMaster//Event Calendar 2.0//EN
METHOD:PUBLISH
X-PUBLISHED-TTL:P3D
REFRESH-INTERVAL:P3D
CALSCALE:GREGORIAN
BEGIN:VEVENT
DTSTART:20140910T131500Z
DTEND:20140910T190000Z
X-MICROSOFT-CDO-ALLDAYEVENT:FALSE
SUMMARY:Board Meeting/Planning Session
DESCRIPTION:Board Meeting/Planning Session (Table 100\, Flowood)\n\n\n\nBoard Meeting begins at 8:15 am\n\nPlanning Session begins at 8:45 am
X-ALT-DESC;FMTTYPE=text/html:Board Meeting/Planning Session (Table 100\, Flowood)<br />\n<br />\nBoard Meeting begins at 8:15 am<br />\nPlanning Session begins at 8:45 am
LOCATION:
UID:e.1412.705
SEQUENCE:3
DTSTAMP:20260422T060020Z
URL:https://business.rankinchamber.com/events/details/board-meeting-planning-session-09-10-2014-705
END:VEVENT

END:VCALENDAR
