BEGIN:VCALENDAR
VERSION:2.0
PRODID:-//ChamberMaster//Event Calendar 2.0//EN
METHOD:PUBLISH
X-PUBLISHED-TTL:P3D
REFRESH-INTERVAL:P3D
CALSCALE:GREGORIAN
BEGIN:VEVENT
DTSTART:20130918T131500Z
DTEND:20130918T200000Z
X-MICROSOFT-CDO-ALLDAYEVENT:FALSE
SUMMARY:Board Planning Session
DESCRIPTION:Board Planning Session immediately follows 8am Board Meeting (Brandon Library)
X-ALT-DESC;FMTTYPE=text/html:Board Planning Session immediately follows 8am Board Meeting (Brandon Library)
LOCATION:
UID:e.1412.477
SEQUENCE:3
DTSTAMP:20260423T013542Z
URL:https://business.rankinchamber.com/events/details/board-planning-session-09-18-2013-477
END:VEVENT

END:VCALENDAR
