BEGIN:VCALENDAR
VERSION:2.0
PRODID:-//ChamberMaster//Event Calendar 2.0//EN
METHOD:PUBLISH
X-PUBLISHED-TTL:P3D
REFRESH-INTERVAL:P3D
CALSCALE:GREGORIAN
BEGIN:VEVENT
DTSTART:20151024T220000Z
DTEND:20151025T010000Z
X-MICROSOFT-CDO-ALLDAYEVENT:FALSE
SUMMARY:Boo at the Zoo
DESCRIPTION:Bring your ghosts and ghouls for a merry Halloween treat! There will be trick-or-treating\, monster mash dance party\, free rides\, creepy animal encounters\, costume parade\, inflatables\, and more!\n\nMORE INFORMATION: www.jacksonzoo.org/events or info@jacksonzoo.org
X-ALT-DESC;FMTTYPE=text/html:<span style="color:#1f497d\; font-family:calibri\,sans-serif\; font-size:11.0pt">Bring your ghosts and ghouls for a merry Halloween treat! There will be trick-or-treating\, monster mash dance party\, free rides\, creepy animal encounters\, costume parade\, inflatables\, and more!</span>\n\n<p><span style="color:#1f497d\; font-family:calibri\,sans-serif\; font-size:11.0pt">MORE INFORMATION: <a href="http://www.jacksonzoo.org/events" target="_blank">www.jacksonzoo.org/events</a> or <a href="mailto:info@jacksonzoo.org" target="_blank">info@jacksonzoo.org</a> </span></p>\n\n<p><span style="font-family:calibri\,sans-serif\; font-size:11.0pt">&nbsp\;</span></p>\n
LOCATION:Jackson Zoo 2918 West Capitol St. Jackson\, MS 39209 (601) 352-2580
UID:e.1412.1991
SEQUENCE:3
DTSTAMP:20260421T102200Z
URL:https://business.rankinchamber.com/events/details/boo-at-the-zoo-10-24-2015-1991
END:VEVENT

END:VCALENDAR
