BEGIN:VCALENDAR
VERSION:2.0
PRODID:-//ChamberMaster//Event Calendar 2.0//EN
METHOD:PUBLISH
X-PUBLISHED-TTL:P3D
REFRESH-INTERVAL:P3D
CALSCALE:GREGORIAN
BEGIN:VEVENT
DTSTART:20150121T143000Z
DTEND:20150121T152500Z
X-MICROSOFT-CDO-ALLDAYEVENT:FALSE
SUMMARY:Breakfast Briefing: Baker Donelson
DESCRIPTION:Breakfast Briefing: Baker Donelson (Corner Bakery\, Flowood)
X-ALT-DESC;FMTTYPE=text/html:Breakfast Briefing: Baker Donelson (Corner Bakery\, Flowood)
LOCATION:
UID:e.1412.795
SEQUENCE:3
DTSTAMP:20260421T233720Z
URL:https://business.rankinchamber.com/events/details/breakfast-briefing-baker-donelson-01-21-2015-795
END:VEVENT

END:VCALENDAR
