BEGIN:VCALENDAR
VERSION:2.0
PRODID:-//ChamberMaster//Event Calendar 2.0//EN
METHOD:PUBLISH
X-PUBLISHED-TTL:P3D
REFRESH-INTERVAL:P3D
CALSCALE:GREGORIAN
BEGIN:VEVENT
DTSTART:20121018T130000Z
DTEND:20121018T140000Z
X-MICROSOFT-CDO-ALLDAYEVENT:FALSE
SUMMARY:Business Development
DESCRIPTION:
X-ALT-DESC;FMTTYPE=text/html:
LOCATION:Rankin County Chamber of Commerce 101 Service Drive Brandon\, MS 39042
UID:e.1412.249
SEQUENCE:3
DTSTAMP:20260422T073624Z
URL:https://business.rankinchamber.com/events/details/business-development-10-18-2012-249
END:VEVENT

END:VCALENDAR
